BEGIN:VCALENDAR
VERSION:2.0
PRODID:icalendar-ruby
CALSCALE:GREGORIAN
METHOD:PUBLISH
BEGIN:VEVENT
DTSTAMP:20260425T180637Z
UID:event-278146@stampinup.net
DTSTART;TZID=America/Chicago:20260402T173000
DTEND;TZID=America/Chicago:20260402T193000
CREATED:20260312T221307
DESCRIPTION:Looking for a fun\, creative break each month? Join us at Stamp
 in’ Create\, where we’ll make three projects using a mix of fabulous S
 tampin’ Up!® products.​ Sessions listed on the banner above—​each
  feature​s the same projects.​\n\nPerfect chance to bring a friend—t
 heir first class is FREE!​ Please reserve your spot at least 3 days ​p
 rior. If the listed times don’t work\, just let me know and we can see a
 bout adding another!\n\nI’ll demo each project step by step​ including
  tips\, tricks and ideas along the way using ​amazing Stampin' Up! produ
 cts from the Mini Catalog\, Annual Catalog and Online Exclusives​. You'l
 l then create your projects to take home and share with family and friends
 !\n\nEach class includes 5–7 card fronts/completed cards to use for insp
 iration or turn into finished cards.​ Some may be one-of-a-kind and incl
 ude use of retired products.\n\n​C​lass fee of $15 secures your spot\,
  payable by cash\, check or family/friends Paypal. All supplies are provid
 ed\, just bring a sweat/spill proof drink if you think you'll get thirsty.
  There's no minimum order​\, BUT when you place an order @ Stampin' Crea
 te\, $10 of your class fee is applied as a credit! PLUS attend three conse
 cutive Stampin' Create events and fourth is FREE!\n\nLooking forward to st
 ampin' with you soon!\n\nEvent link: https://stampinup.net/crm/events/2781
 46
LAST-MODIFIED:20260312T221307
LOCATION:Montgomery
ORGANIZER;CN=Angie Brailsford:mailto:n2ink2@gmail.com
SUMMARY:Stampin' Create PM Session April
URL;VALUE=URI:https://stampinup.net/crm/events/278146
END:VEVENT
END:VCALENDAR
