BEGIN:VCALENDAR
VERSION:2.0
PRODID:icalendar-ruby
CALSCALE:GREGORIAN
METHOD:PUBLISH
BEGIN:VEVENT
DTSTAMP:20260424T161335Z
UID:event-278051@stampinup.net
DTSTART;TZID=America/Denver:20260411T090000
DTEND;TZID=America/Denver:20260411T170000
CREATED:20260310T174323
DESCRIPTION:Fun and Affordable Paper Crafting - $100\n\n• Paper crafting 
 projects.\n• A large variety of make-and-take cards with envelopes (typi
 cally at least 15\, we've had up to 30)\n• Written tutorials\n• Materi
 als to create a two-page 12" x 12" scrapbook layout.\n• Additional mater
 ials to make more cards or scrapbook pages once you are home!\n\nExpect:\n
 • A morning snack\n• Veggie and/or Fruit Tray w/dips\n• A balanced l
 unch\n• Plenty of bottled water\n• Door prizes\n• A few other surpri
 ses\n\nGrab your spot quickly - our seating is strictly limited to 12.\n\n
 How to prepare for and have the BEST Event Experience -\nParticipate in th
 e Optional Activities. The more you participate\, the more fun you will ha
 ve!\n\nBrown Bag Bonanza - Bring your favorite bite-sized candy\, snack\, 
 small token\, or favor to exchange with 12 attendees.\n\nBOGO (Bring One G
 et One) Gift Exchange – Bring 1\, wrapped\, low-cost gift. The gift shou
 ld cost no more than $15 or be handmade. There is no theme. Once all the g
 ifts are gathered\, we will conduct our gift exchange using “White Eleph
 ant” rules. When you bring a gift to give\, you’ll get a gift in retur
 n. Everyone enjoys a nice gift\, so please\, no "gag" gifts.\n\nDessert Sw
 ap - This is a good 'ole exchange\, or maybe more like a dessert "potluck"
  to go. Just bring one dozen servings of your favorite dessert to place on
  the food swap table - enough for one for each participant. Attendees will
  receive a “to-go” box for the desserts they don’t eat during the ev
 ent.\n\nFAQ:\nQ: What should I bring with me?\nA: We recommend that you br
 ing:\n• adhesives (liquid glue\, double-sided tape\, like tape runner or
  tear-n-tape\, dimensionals\, glue dots\, etc.)\n• basic crafting suppli
 es (scissors\, pic tools\, silicon mats\, etc.)\n• whatever extra crafti
 ng supplies and tools you are comfortable with (paper trimmer\, tweezers\,
  watercolor pencils\, alcohol markers\, watercolor markers\, favorite ink 
 colors or sentiment stamps\, etc.).\n\nEvent link: https://stampinup.net/c
 rm/events/278051
LAST-MODIFIED:20260310T174403
LOCATION:Alamogordo\, NM\, 916 Hawaii Ave.
ORGANIZER;CN=Kerry Carron:mailto:kerrycarron@gmail.com
SUMMARY:Stamp Crafting Masters All-Day Event
URL;VALUE=URI:https://stampinup.net/crm/events/278051
END:VEVENT
END:VCALENDAR
