BEGIN:VCALENDAR
VERSION:2.0
PRODID:icalendar-ruby
CALSCALE:GREGORIAN
METHOD:PUBLISH
BEGIN:VEVENT
DTSTAMP:20260423T150805Z
UID:event-277926@stampinup.net
DTSTART;TZID=America/Los_Angeles:20260426T130000
DTEND;TZID=America/Los_Angeles:20260426T160000
CREATED:20260307T164118
DESCRIPTION:Enjoy creating 6 cards FREE with a $35 order — or simply pay 
 $25 to attend.\n\nEvent link: https://stampinup.net/crm/events/277926
LAST-MODIFIED:20260307T164118
LOCATION:My Home Studio\, Carson\, CA
ORGANIZER;CN=Michelle Phewklieng:mailto:michelle@stampwithmichelleann.com
SUMMARY:Card Class
URL;VALUE=URI:https://stampinup.net/crm/events/277926
END:VEVENT
END:VCALENDAR
