BEGIN:VCALENDAR
VERSION:2.0
PRODID:icalendar-ruby
CALSCALE:GREGORIAN
METHOD:PUBLISH
BEGIN:VEVENT
DTSTAMP:20260423T150810Z
UID:event-277925@stampinup.net
DTSTART;TZID=America/Los_Angeles:20260404T120000
DTEND;TZID=America/Los_Angeles:20260404T150000
CREATED:20260307T163942
DESCRIPTION:Join us for a fun and relaxing Crafts &amp\; Drinks Social on S
 aturday\, April 4th! Enjoy a laid-back afternoon of cardmaking\, conversat
 ion\, and creativity at a local brewery.\n\nCost of admission includes ONE
  drink from the brewery. 🍺🍷\n\nWhat’s Included:\n\n\n	\n	An all-in
 clusive card kit (or kits)\n	\n	\n	One drink from the brewery with your ad
 mission\n	\n\n\nSmall eats and additional beverages will be available for 
 purchase.\n\nPricing Options:\n\n\n	\n	$35 — 1 kit + 1 drink \n	\n	\n	$
 55 total — 2 kits + 1 drink \n	\n	\n	$65 total — 3 or more kits + 1 
 drink \n	\n\n\nThis is a beginner-friendly\, social event—no experience
  needed. Perfect for coming solo or bringing friends.\n\nSpace is limited.
  RSVP required.\n\n\nEvent link: https://stampinup.net/crm/events/277925
LAST-MODIFIED:20260307T163942
LOCATION:SoCal Vibes Co. - Brewery\, Tasting Room & Kitchen\, 17812 Main St
 \, Gardena\, CA 90248
ORGANIZER;CN=Michelle Phewklieng:mailto:michelle@stampwithmichelleann.com
SUMMARY:Crafts & Drinks Social
URL;VALUE=URI:https://stampinup.net/crm/events/277925
END:VEVENT
END:VCALENDAR
