BEGIN:VCALENDAR
VERSION:2.0
PRODID:icalendar-ruby
CALSCALE:GREGORIAN
METHOD:PUBLISH
BEGIN:VEVENT
DTSTAMP:20260421T135440Z
UID:event-277831@stampinup.net
DTSTART;TZID=America/New_York:20260428T173000
DTEND;TZID=America/New_York:20260428T203000
CREATED:20260306T144255
DESCRIPTION:Gift Card Holder Class\nTuesday\, April 28th\n6:30 - 8:30 {M\n$
 25.00\nAt this class you'll make 3-gift card holders to use for any occasi
 on.  Class fee includes a sample tempate and directions for each gif card
  holder.  You need to bring your own adhesive and a paper/scoring trimmer
  to class.\nRegistration deadeline is April 18th - please call or email to
  register\n\nEvent link: https://stampinup.net/crm/events/277831
LAST-MODIFIED:20260306T144255
LOCATION:Mentor\, OH\, 7239 Reynolds Road\, Mentor
ORGANIZER;CN=Leigh Amburgey:mailto:themaidmom@att.net
SUMMARY:Gift Card Holder Class
URL;VALUE=URI:https://stampinup.net/crm/events/277831
END:VEVENT
END:VCALENDAR
