BEGIN:VCALENDAR
VERSION:2.0
PRODID:icalendar-ruby
CALSCALE:GREGORIAN
METHOD:PUBLISH
BEGIN:VEVENT
DTSTAMP:20260421T135442Z
UID:event-277830@stampinup.net
DTSTART;TZID=America/New_York:20260417T183000
DTEND;TZID=America/New_York:20260417T203000
CREATED:20260306T143918
DESCRIPTION:Creative/Fancy Fold Card Class\nFriday\, April 17th\n6:30-8:30 
 PM\n$25.00\nAt this class you'll make 3 creative fold cards.  Class fee i
 ncludes a samle card template and directions for each card.  You need to 
 bring your own adhesive and a paper/scoring trimmer or scroeboard to class
 .  \nRegistration deadline is April 10th - Please call or email to regis
 ter\n\nEvent link: https://stampinup.net/crm/events/277830
LAST-MODIFIED:20260306T143918
LOCATION:Mentor\, OH\, 7239 Reynolds Road\, Mentor
ORGANIZER;CN=Leigh Amburgey:mailto:themaidmom@att.net
SUMMARY:Creative/Fancy Fold Card Class
URL;VALUE=URI:https://stampinup.net/crm/events/277830
END:VEVENT
END:VCALENDAR
