BEGIN:VCALENDAR
VERSION:2.0
PRODID:icalendar-ruby
CALSCALE:GREGORIAN
METHOD:PUBLISH
BEGIN:VEVENT
DTSTAMP:20260422T180140Z
UID:event-27771@stampinup.net
DTSTART;VALUE=DATE:20191219
DTEND;VALUE=DATE:20191219
CREATED:20191205T180559
DESCRIPTION:Join the Scrapbooking Global design team and our guests from th
 e Scrapbooking Global Facebook Group as we share layouts with a Holiday th
 eme.\n\ntheartfulinker.com/scrapbooking-global-december-2019-blog-hop\n\nE
 vent link: https://stampinup.net/crm/events/27771
LAST-MODIFIED:20191205T180559
ORGANIZER;CN=Sara Levin:mailto:TheArtfulInker@gmail.com
SUMMARY:Scrapbooking Global December 2019 Blog Hop
URL;VALUE=URI:https://stampinup.net/crm/events/27771
END:VEVENT
END:VCALENDAR
