BEGIN:VCALENDAR
VERSION:2.0
PRODID:icalendar-ruby
CALSCALE:GREGORIAN
METHOD:PUBLISH
BEGIN:VEVENT
DTSTAMP:20260422T190841Z
UID:event-27770@stampinup.net
DTSTART;VALUE=DATE:20191215
DTEND;VALUE=DATE:20191215
CREATED:20191205T180332
DESCRIPTION:Join the Stamping Sunday design team for our Blog Hop as we say
  goodbye to our favorites from the Holiday Catalog before they retire!\n\n
 http://theartfulinker.com/stamping-sunday-blog-hop-goodbye-holiday-favorit
 e\n\nEvent link: https://stampinup.net/crm/events/27770
LAST-MODIFIED:20191205T180332
ORGANIZER;CN=Sara Levin:mailto:TheArtfulInker@gmail.com
SUMMARY:Stamping Sunday Blog Hop
URL;VALUE=URI:https://stampinup.net/crm/events/27770
END:VEVENT
END:VCALENDAR
