BEGIN:VCALENDAR
VERSION:2.0
PRODID:icalendar-ruby
CALSCALE:GREGORIAN
METHOD:PUBLISH
BEGIN:VEVENT
DTSTAMP:20260419T140639Z
UID:event-277338@stampinup.net
DTSTART;TZID=America/New_York:20260414T100000
DTEND;TZID=America/New_York:20260414T120000
CREATED:20260227T134829
DESCRIPTION:Rescheduled from March!\nOur theme for this month is “Isn’t
  That Cute”!  If you’ve been coming to my classes\, you know that I d
 on’t tend to gravitate towards ‘cute’ stamp sets.  But I’ve chall
 enged myself this month to create some projects that feature them.  You w
 ill be able to select from an array of sentiments\, so you can make Birthd
 ay\, Thank You\, Congrats\, etc.\n\n \n\nPlease RSVP by Wed.\, 4/8.  If 
 you cancel after the RSVP date\, you are responsible for purchasing the cl
 ass kit.  Thanks for your understanding!\n\n \n\nClass fee is $15\, or $
 5 for team members.  Please have exact change or check\, if possible.\n\n
  \n\nPlease bring your adhesive of choice.  If you forget your adhesive\
 , you can purchase a Tombow tape runner for $5\, or a refill for $3.\n\n 
 \n\n\nEvent link: https://stampinup.net/crm/events/277338
LAST-MODIFIED:20260325T130202
LOCATION:Toni’s House - contact Toni for address
ORGANIZER;CN=Toni Campana:mailto:tcamp363@camppug.com
SUMMARY:Tue.\, Morning Stamp Class 
URL;VALUE=URI:https://stampinup.net/crm/events/277338
END:VEVENT
END:VCALENDAR
