BEGIN:VCALENDAR
VERSION:2.0
PRODID:icalendar-ruby
CALSCALE:GREGORIAN
METHOD:PUBLISH
BEGIN:VEVENT
DTSTAMP:20260421T100913Z
UID:event-277290@stampinup.net
DTSTART;TZID=America/New_York:20260421T183000
DTEND;TZID=America/New_York:20260421T200000
CREATED:20260227T102629
DESCRIPTION:Remember the old saying\, April Showers bring May flowers? Well
 \, I don't want to wait that long! This month we're making three vibrant\,
  colorful cards featuring the new Garden Poetry suite! \nThis workshop wi
 ll guide you through making the three cards shown. All materials and suppl
 ies are provided\, including envelopes for each card. The $20 fee is waiv
 ed for anyone who places an order the night of the workshop!\n\nREGISTRATI
 ON IS REQUIRED: April Card Class Sign Up\n\nContact Mary:  309-258-5303 
 or stampinupwithmary@gmail.com\n\nEvent link: https://stampinup.net/crm/e
 vents/277290
LAST-MODIFIED:20260304T111440
LOCATION:Maryville TN\, at my home\, 1161 Beech Tree Cove\, Maryville TN
ORGANIZER;CN=Mary Duitsman:mailto:mary.duitsman@gmail.com
SUMMARY:April Card Workshop
URL;VALUE=URI:https://stampinup.net/crm/events/277290
END:VEVENT
END:VCALENDAR
