BEGIN:VCALENDAR
VERSION:2.0
PRODID:icalendar-ruby
CALSCALE:GREGORIAN
METHOD:PUBLISH
BEGIN:VEVENT
DTSTAMP:20260422T091650Z
UID:event-277173@stampinup.net
DTSTART;TZID=America/Phoenix:20260420T170000
DTEND;TZID=America/Phoenix:20260420T190000
CREATED:20260225T213317
DESCRIPTION:I'll BE LIVE TONIGHT! Join me for a FREE YouTube Live stamping 
 class tonight at 8pm eastern\, 7pm central\, 6pm mountain and 5pm pacific!
  We are going to have a BLAST creating fun cards! You'll find me here:\nht
 tp://www.youtube.com/@danigurrola-pinkbarnstamper\n\nEvent link: https://s
 tampinup.net/crm/events/277173
LAST-MODIFIED:20260225T213317
ORGANIZER;CN=Dani Gurrola:mailto:Fuzzypink56@yahoo.com
SUMMARY:Make It Monday YouTube Live FREE Weekly Card Class!
URL;VALUE=URI:https://stampinup.net/crm/events/277173
END:VEVENT
END:VCALENDAR
