BEGIN:VCALENDAR
VERSION:2.0
PRODID:icalendar-ruby
CALSCALE:GREGORIAN
METHOD:PUBLISH
BEGIN:VEVENT
DTSTAMP:20260425T180556Z
UID:event-276893@stampinup.net
DTSTART;TZID=America/Chicago:20260417T170000
DTEND;TZID=America/Chicago:20260417T200000
CREATED:20260220T205318
DESCRIPTION:Make plans to join us for the Shoebox Swap on Friday\, April 17
 th ...sign up by April 9th. Headcount will be sent out on the 10th. Event 
 starts at 5 for those who can arrive that early...come as soon as you can!
 \n\nAdmission is FREE for everyone who brings a project. Keep reading belo
 w for details on how to participate without preparing a swap You can use a
 ny products from any company you’d like and your idea doesn’t have to 
 be an original!\n\nAttend for FREE...prepare a project box (similar to I d
 o for classes) with your completed card sample along with all of the ink\,
  stamps\, punches\, etc...everything needed to complete your sample. You'l
 l also bring enough card kits so that all in attendance can make your card
 .\n\nIf you want to participate\, but DO NOT prepare a project to share\, 
 your cost will be $2 X # of rsvps. A shoebox swap will be prepared for you
  and you’ll be able to make each of the projects shared that night. For 
 example\, if 10 people rsvp\, your cost would be $20.\n\nOptional $6 dinne
 r offered... provided four or more reserve a plate. Please bring your scis
 sors\, adhesive and bone folder\, if you have one\, to complete your proje
 cts\, along with a drink for yourself.\n\n \n\nAdhesive will be available
  for purchase\, if needed. If you have any questions or are interested in 
 joining the fun...let me know by April 9th.\n\n\nEvent link: https://stamp
 inup.net/crm/events/276893
LAST-MODIFIED:20260220T205318
LOCATION:Contact Me for Address
ORGANIZER;CN=Angie Brailsford:mailto:n2ink2@gmail.com
SUMMARY:April Shoebox Swap
URL;VALUE=URI:https://stampinup.net/crm/events/276893
END:VEVENT
END:VCALENDAR
