BEGIN:VCALENDAR
VERSION:2.0
PRODID:icalendar-ruby
CALSCALE:GREGORIAN
METHOD:PUBLISH
BEGIN:VEVENT
DTSTAMP:20260421T121651Z
UID:event-276800@stampinup.net
DTSTART;TZID=America/New_York:20260412T130000
DTEND;TZID=America/New_York:20260412T160000
CREATED:20260219T000645
DESCRIPTION:Technique and Tool Class $15\n\nI will teach a Technique and/or
  how to use a Tool and have 3 cards that use what I have taught.  Some to
 pics include:  Cracked Glass\, Blending Brushes\, Blocks to make Backgrou
 nds\, Paper Trimmer\, \nPunches\, Cut &amp\; Emboss Machine\, All About R
 ibbon\, Take Your Pick Tool\, Paper Snips and some Fun Folds.\n\nEvent lin
 k: https://stampinup.net/crm/events/276800
LAST-MODIFIED:20260219T000645
LOCATION:Cedar Ridge Stamp Studio
ORGANIZER;CN=Kelly Bell:mailto:kbstampin@gmail.com
SUMMARY:Technique & Tool Class
URL;VALUE=URI:https://stampinup.net/crm/events/276800
END:VEVENT
END:VCALENDAR
