BEGIN:VCALENDAR
VERSION:2.0
PRODID:icalendar-ruby
CALSCALE:GREGORIAN
METHOD:PUBLISH
BEGIN:VEVENT
DTSTAMP:20260421T121534Z
UID:event-276785@stampinup.net
DTSTART;TZID=America/New_York:20260410T180000
DTEND;TZID=America/New_York:20260410T230000
CREATED:20260218T235033
DESCRIPTION:Join Kelly for an unstructured craft night to work on a kit pro
 ject of your choice (one you are working on now\, a Paper Pumpkin kit\, a 
 Stampin' Up! kit\, a kit from Kelly's Card Buffet).  Doesn't matter\, com
 e enjoy and evening with me working on a project to unwind to end the long
  week.\n\nIf you are attending the All Day Crop the next day\, you can bri
 ng your supplies and setup your space early!\n\nEvent link: https://stampi
 nup.net/crm/events/276785
LAST-MODIFIED:20260218T235345
LOCATION:Cedar Ridge Stamp Studio
ORGANIZER;CN=Kelly Bell:mailto:kbstampin@gmail.com
SUMMARY:Sip & Kit Open Craft Night
URL;VALUE=URI:https://stampinup.net/crm/events/276785
END:VEVENT
END:VCALENDAR
