BEGIN:VCALENDAR
VERSION:2.0
PRODID:icalendar-ruby
CALSCALE:GREGORIAN
METHOD:PUBLISH
BEGIN:VEVENT
DTSTAMP:20260421T121544Z
UID:event-276771@stampinup.net
DTSTART;TZID=America/New_York:20260411T100000
DTEND;TZID=America/New_York:20260411T200000
CREATED:20260218T233032
DESCRIPTION:RSVP for the Monthly All Day Crop 10am to 8pm.  $25 for the Da
 y will include beverages and snacks\, use of all my tools (current and ret
 ired)\, the comraderie and friendships with fellow crafters and scrapbooke
 rs\, and my crafting experience.  RSVP for the new address &amp\; gate co
 de\, or email me.  I look forward to seeing you in the new studio!\n\nEve
 nt link: https://stampinup.net/crm/events/276771
LAST-MODIFIED:20260218T233032
LOCATION:Cedar Ridge Stampin' Studio\, RSVP for Address
ORGANIZER;CN=Kelly Bell:mailto:kbstampin@gmail.com
SUMMARY:All Day Crop @ Kelly's Stamp Pad
URL;VALUE=URI:https://stampinup.net/crm/events/276771
END:VEVENT
END:VCALENDAR
