BEGIN:VCALENDAR
VERSION:2.0
PRODID:icalendar-ruby
CALSCALE:GREGORIAN
METHOD:PUBLISH
BEGIN:VEVENT
DTSTAMP:20260425T180529Z
UID:event-276728@stampinup.net
DTSTART;TZID=America/Chicago:20260411T080000
DTEND;TZID=America/Chicago:20260411T110000
CREATED:20260217T215444
DESCRIPTION:TWO Shopping Times...Friday and Saturday at Cornerstone. Here a
 re the details...\n\nHere's your opportunity to clean out some of the craf
 t supplies you are no longer using and/or shop yard sale style for craft s
 upplies of ALL sorts! This inside yard sale is for ALL types of craft supp
 lies...no finished handcraft items.\n\nGot a partial pack of paper where y
 ou've used the ones you like and don't know what to do with the rest? Sell
  at the Craft Yard Sale! Cross stitch patterns\, you no longer need? Sell 
 at the Craft Yard Sale! Duplicates of items you've purchased\, paint you n
 o longer need...you get the idea...any and ALL unneeded craft items...sell
  at the Craft Yard Sale!\n\nVENDORS...to be a vendor\, message me with you
 r choice of vendor number along with your request for either half or whole
  table. I'll verify your number is available and then you can start taggin
 g your sale items (anything craft related) with your vendor number and pri
 ce. Day of sale\, vendors can begin setting up at 3 pm and Early Bird shop
  until 4. You are welcome to stay during the sale or return Saturday and p
 ick up your unsold items.\n\nThere will be one check out point at the door
 . As a vendor\, you'll receive a rubber check from The Rubber Stampede for
  your total amount sold. The check will be used as a credit toward a Stamp
 in' Up order or event fee with me within two months of the sale. You'll be
  responsible for keeping up with your check.\n\nSHOPPERS...just come shop!
  Easy one checkout point at the door\, CASH preferred. Please let me know 
 if you have any questions and share the event with your friends...Happy Se
 lling AND Shopping!\n\nEvent link: https://stampinup.net/crm/events/276728
LAST-MODIFIED:20260217T215444
LOCATION:Cornerstone Christian Church\, Montgomery\, AL
ORGANIZER;CN=Angie Brailsford:mailto:n2ink2@gmail.com
SUMMARY:Craft Yard Sale Saturday
URL;VALUE=URI:https://stampinup.net/crm/events/276728
END:VEVENT
END:VCALENDAR
