BEGIN:VCALENDAR
VERSION:2.0
PRODID:icalendar-ruby
CALSCALE:GREGORIAN
METHOD:PUBLISH
BEGIN:VEVENT
DTSTAMP:20260423T103802Z
UID:event-276536@stampinup.net
DTSTART;TZID=America/Chicago:20260420T180000
DTEND;TZID=America/Chicago:20260420T210000
CREATED:20260216T091924
DESCRIPTION:Kit Together! Monday\, April 20th  6-9pm: Let’s get togeth
 er\, relax and work on a Paper Pumpkin or other Stampin’Up! kit. Bring a
  kit you have already bought\, or I will have several on hand to purchase.
  (Free! Or the cost of the kit you purchase.)\n\nEvent link: https://stamp
 inup.net/crm/events/276536
LAST-MODIFIED:20260414T112409
LOCATION:Jan's House\, 84 Lawson Ave W\, St Paul MN 55117
ORGANIZER;CN=Jan Rassett:mailto:jansstampingstudio@gmail.com
SUMMARY:Kit Together
URL;VALUE=URI:https://stampinup.net/crm/events/276536
END:VEVENT
END:VCALENDAR
