BEGIN:VCALENDAR
VERSION:2.0
PRODID:icalendar-ruby
CALSCALE:GREGORIAN
METHOD:PUBLISH
BEGIN:VEVENT
DTSTAMP:20260423T103758Z
UID:event-276535@stampinup.net
DTSTART;TZID=America/Chicago:20260411T100000
DTEND;TZID=America/Chicago:20260411T130000
CREATED:20260216T091752
DESCRIPTION:Monthly Stamp Class: Build your card making skills with five ne
 w projects featuring exclusive materials and advanced techniques. This mon
 th\, we’ll explore layering\, creative die cuts\, and interactive card e
 lements to take your crafting to the next level. ($20\; Team Member/VIP sh
 oppers: $10 or Free with a $30 purchase)\n\n\nEvent link: https://stampinu
 p.net/crm/events/276535
LAST-MODIFIED:20260216T110437
LOCATION:Jan's House\, 84 Lawson Ave W\, St Paul MN 55117
ORGANIZER;CN=Jan Rassett:mailto:jansstampingstudio@gmail.com
SUMMARY:Monthly Stamp Class- April
URL;VALUE=URI:https://stampinup.net/crm/events/276535
END:VEVENT
END:VCALENDAR
