BEGIN:VCALENDAR
VERSION:2.0
PRODID:icalendar-ruby
CALSCALE:GREGORIAN
METHOD:PUBLISH
BEGIN:VEVENT
DTSTAMP:20260423T122816Z
UID:event-275790@stampinup.net
DTSTART;TZID=Australia/Sydney:20260413T193000
DTEND;TZID=Australia/Sydney:20260413T213000
CREATED:20260206T190307
DESCRIPTION:You are invied to join me for this in person event. We will mak
 e 4 cards (or gift related projects\, such as tags\, bags or bows) - they 
 change every month. BYO adhesives and a trimmer. Cost $25. Please book via
  Humanatix.\n\nEvent link: https://stampinup.net/crm/events/275790
LAST-MODIFIED:20260206T190307
LOCATION:Scrappy Chicks Craft Room\, 40 Everly Cct Pakenham
ORGANIZER;CN=Danielle Edwards:mailto:scrappychick@scrappychicks.art
SUMMARY:Card Class
URL;VALUE=URI:https://stampinup.net/crm/events/275790
END:VEVENT
END:VCALENDAR
