BEGIN:VCALENDAR
VERSION:2.0
PRODID:icalendar-ruby
CALSCALE:GREGORIAN
METHOD:PUBLISH
BEGIN:VEVENT
DTSTAMP:20260424T012754Z
UID:event-275208@stampinup.net
DTSTART;TZID=America/Los_Angeles:20260412T140000
DTEND;TZID=America/Los_Angeles:20260412T160000
CREATED:20260201T145951
DESCRIPTION:Welcome to my April card class.  We make three cards.  Cost i
 s $15 or a $25 Stampin' Up! order.  Come join us for some fun\, camraderi
 e and creativity.  I will also be having my annual retired stamp sale at 
 this class.  \n\nEvent link: https://stampinup.net/crm/events/275208
LAST-MODIFIED:20260201T155327
LOCATION:Redmond\, Oregon\, 1547 SW 26th St\, Redmond\, Or
ORGANIZER;CN=Mary Green:mailto:lcroxy@aol.com
SUMMARY:Monthly Card Class
URL;VALUE=URI:https://stampinup.net/crm/events/275208
END:VEVENT
END:VCALENDAR
