BEGIN:VCALENDAR
VERSION:2.0
PRODID:icalendar-ruby
CALSCALE:GREGORIAN
METHOD:PUBLISH
BEGIN:VEVENT
DTSTAMP:20260424T012845Z
UID:event-275207@stampinup.net
DTSTART;TZID=America/Los_Angeles:20260411T100000
DTEND;TZID=America/Los_Angeles:20260411T120000
CREATED:20260201T145851
DESCRIPTION:Welcome to my April card class.  We make three cards.  Cost i
 s $15 or a $25 Stampin' Up! order.  Come join us for some fun\, camraderi
 e and creativity.  I will also be having my annual retired stamp sale at 
 this time.\n\nEvent link: https://stampinup.net/crm/events/275207
LAST-MODIFIED:20260201T155247
LOCATION:Redmond\, Oregon\, 1547 SW 26th St\, Redmond\, Or
ORGANIZER;CN=Mary Green:mailto:lcroxy@aol.com
SUMMARY:Monthly Card Class
URL;VALUE=URI:https://stampinup.net/crm/events/275207
END:VEVENT
END:VCALENDAR
