BEGIN:VCALENDAR
VERSION:2.0
PRODID:icalendar-ruby
CALSCALE:GREGORIAN
METHOD:PUBLISH
BEGIN:VEVENT
DTSTAMP:20260419T173455Z
UID:event-27505@stampinup.net
DTSTART;TZID=America/Chicago:20200118T093000
DTEND;TZID=America/Chicago:20200118T123000
CREATED:20191204T105633
DESCRIPTION:We will make 5 beautiful hand stamped cards with a Love theme t
 hat can be used for Valentines\, Weddings\, Anniversaries or any occasion 
 you wish.   \nCost $15.00\nCost $13.00 if paid registration is received 
 by December 13\, 2019\nSuggested items to bring to class:\nFoam Pad or old
  Mouse Pad to get better impressions from photopolymer stamps.\nSilicone C
 raft Sheet for applying adhesive to keep your work surface from getting st
 icky.\nCLICK HERE FOR A MAP TO CLASS LOCATION\n\nEvent link: https://stamp
 inup.net/crm/events/27505
LAST-MODIFIED:20191228T154749
ORGANIZER;CN=Susan Miller:mailto:STAMPIN@DREAMLAKEDESIGN.COM
SUMMARY:Love is in the Air Card Class
URL;VALUE=URI:https://stampinup.net/crm/events/27505
END:VEVENT
END:VCALENDAR
