BEGIN:VCALENDAR
VERSION:2.0
PRODID:icalendar-ruby
CALSCALE:GREGORIAN
METHOD:PUBLISH
BEGIN:VEVENT
DTSTAMP:20260423T194056Z
UID:event-274663@stampinup.net
DTSTART;TZID=America/Los_Angeles:20260409T130000
DTEND;TZID=America/Los_Angeles:20260409T153000
CREATED:20260126T160159
DESCRIPTION:If you live in the Napa\, CA\, area\, you are welcome to join m
 e at my home for these monthly classes on the 2nd Thursday (except Decemb
 er) of each month.\n\n2499 Creekside Ave.\nNapa\, CA 94558\n\nI offer cla
 sses for two different crafter types!\n\nThe first class will be for begin
 ners / new to crafting / or individuals who like more relaxed-paced classe
 s. This class session will be held from 10:00 AM to 12:30 PM.\n\nThis seco
 nd class is for those crafters who are intermediate to advanced crafters w
 ho are okay with a faster-paced class. This class session will be held fro
 m 1:00 PM - 3:30 PM.\n\nEach month\, you will receive the supplies (not t
 he stamp set/bundle or ink) to make three to four projects exclusive to m
 y class\, depending on the time needed to complete the projects. I will fe
 ature a fabulous Stampin' Up! bundle or stamp set each month. Your kit wil
 l include all cardstock\, Designer Series Paper\, ribbon\, embellishments\
 , and envelopes needed to complete the projects\, along with a project ins
 truction sheet for each project for only $20.00\n\nSpace is limited to 7 p
 eople per session\, so could you RSVP below or email me for the class to
 day?\n\nEvent link: https://stampinup.net/crm/events/274663
LAST-MODIFIED:20260331T123405
ORGANIZER;CN=Lori Skinner:mailto:lori@thiscraftersdream.com
SUMMARY:Monthly Card Class
URL;VALUE=URI:https://stampinup.net/crm/events/274663
END:VEVENT
END:VCALENDAR
