BEGIN:VCALENDAR
VERSION:2.0
PRODID:icalendar-ruby
CALSCALE:GREGORIAN
METHOD:PUBLISH
BEGIN:VEVENT
DTSTAMP:20260423T191639Z
UID:event-274652@stampinup.net
DTSTART;TZID=America/Los_Angeles:20260409T100000
DTEND;TZID=America/Los_Angeles:20260409T123000
CREATED:20260126T155822
DESCRIPTION:If you live in the Napa\, CA\, area\, you are welcome to join m
 e at my home for these monthly classes on the 2nd Thursday (except Decemb
 er) of each month.\n\n2499 Creekside Ave.\nNapa\, CA 94558\n\nI offer cla
 sses for two different crafter types!\n\nThe first class will be for begin
 ners / new to crafting / or individuals who like more relaxed-paced classe
 s. This class session will be held from 10:00 AM to 12:30 PM.\n\nEach mont
 h\, you will receive the supplies (not the stamp set/bundle or ink) to m
 ake three to four projects exclusive to my class\, depending on the time n
 eeded to complete the projects. I will feature a fabulous Stampin' Up! bun
 dle or stamp set each month. Your kit will include all cardstock\, Designe
 r Series Paper\, ribbon\, embellishments\, and envelopes needed to complet
 e the projects\, along with a project instruction sheet for each project f
 or only $20.00\n\nSpace is limited to 6 people per session\, so could you 
 RSVP below or email me for the class today?\n\nEvent link: https://stamp
 inup.net/crm/events/274652
LAST-MODIFIED:20260330T154423
ORGANIZER;CN=Lori Skinner:mailto:lori@thiscraftersdream.com
SUMMARY:Monthly Card Class
URL;VALUE=URI:https://stampinup.net/crm/events/274652
END:VEVENT
END:VCALENDAR
