BEGIN:VCALENDAR
VERSION:2.0
PRODID:icalendar-ruby
CALSCALE:GREGORIAN
METHOD:PUBLISH
BEGIN:VEVENT
DTSTAMP:20260420T161539Z
UID:event-274330@stampinup.net
DTSTART;TZID=America/New_York:20260421T184500
DTEND;TZID=America/New_York:20260421T213000
CREATED:20260121T202444
DESCRIPTION:⭐Here are the details...⭐\nApril 2026 -  🌼"Made with Sw
 eetness"Scrapbook Kit \n\n✂𝙄𝙣-𝙥𝙚𝙧𝙨𝙤𝙣 𝘾𝙡
 𝙖𝙨𝙨: Tues\, April 21\, 2026 at 9:30am and 6:45pm\n\n*𝘤𝘭
 𝘢𝘴𝘴𝘦𝘴 𝘯𝘦𝘦𝘥 2 𝘱𝘦𝘰𝘱𝘭𝘦 𝘢𝘵
 𝘵𝘦𝘯𝘥𝘪𝘯𝘨 𝘵𝘰 𝘩𝘰𝘭𝘥 𝘤𝘭𝘢𝘴
 𝘴\n\n✂𝙊𝙣𝙡𝙞𝙣𝙚 𝘾𝙡𝙖𝙨𝙨: Wed\, April 22\,
  2026 at  9:30am on private FB page.\n✔Watch the recording WHENEVER i
 t works for you! 😉\n✔This date/time is subject to change\, but I'll 
 let you know if it does.\n\n..............................................
 ..............................................\n\n📝You'll find the lis
 t of products needed for this class in the photo below.📸 🙃😉  
 \n \n\n✂I will be adding my "Krista's Crafty" touch to this Scrapbook c
 lass\, and we'll be creating MORE pages (10-12 instead of the normal six!)
 \, because of the additional two-tone cardstock you've purchased to comple
 te this kit!😉🙌🥳\n\n🚨This Scrapbook KIT will be available for P
 URCHASE --from my SU! website --  kristascrafty.stampinup.net on March 
 3\, 2026\n\n👉👉👉👉To join class 𝐏𝐥𝐞𝐚𝐬𝐞 𝐎
 𝐫𝐝𝐞𝐫 &amp\; 𝐑𝐒𝐕𝐏 for this month's Workshop kit fro
 m my SU website by Tues\, March 31\, 2026 to make sure you have it in t
 ime for class!🙃\n\n👉𝐓𝐨 𝐣𝐨𝐢𝐧 any of my future 𝐦
 𝐨𝐧𝐭𝐡𝐥𝐲 𝐒𝐜𝐫𝐚𝐩𝐛𝐨𝐨𝐤 𝐜𝐥𝐚
 𝐬𝐬\n...please purchase that month's\n ✂Scrapbook Workshop kit\n
 ✂The Two-tone Cardstock pack....that coordinates with this month's kit\n
 .... from my SU! website 3 𝙬𝙚𝙚𝙠𝙨 𝙥𝙧𝙞𝙤𝙧 𝙩
 𝙤 𝙩𝙝𝙚 𝙘𝙡𝙖𝙨𝙨 𝙙𝙖𝙩𝙚. (if there is a ho
 liday\, allow more time for shipping)\n\n🔗kristascrafty.stampinup.net\n
 \n........................................................................
 ...\n\nUpcoming Scrapbook Class DATES \nPlease 𝙡𝙚𝙩 𝙢𝙚 𝙠
 𝙣𝙤𝙬 𝙞𝙛 𝙮𝙤𝙪 𝙘𝙖𝙣 𝙟𝙤𝙞𝙣 𝙪𝙨 
 for any of these upcoming classes! \n\nThe first date is the in-person cla
 ss date....the 2nd date is the Online Class.\n\nTues\, April 21 &amp\; We
 d\, April 22\, 2026-- 🌼Made with Sweetness -coming March 3\, 2026 to o
 ur Online Store!! \n\nWed\, May 20 &amp\; Thurs\, May 21\, 2026-- NEW KIT
 !!!! \n\nTues\, June 23 &amp\; Wed\, June 24\, 2026-- NEW KIT!!!! \n\n\
 nEvent link: https://stampinup.net/crm/events/274330
LAST-MODIFIED:20260327T124144
LOCATION:my home in Elverson\, PA
ORGANIZER;CN=Krista Hershberger:mailto:kristascrafty@gmail.com
SUMMARY:🌼"Made with Sweetness" Monthly SCRAPbooking Class 
URL;VALUE=URI:https://stampinup.net/crm/events/274330
END:VEVENT
END:VCALENDAR
