BEGIN:VCALENDAR
VERSION:2.0
PRODID:icalendar-ruby
CALSCALE:GREGORIAN
METHOD:PUBLISH
BEGIN:VEVENT
DTSTAMP:20260420T161542Z
UID:event-274329@stampinup.net
DTSTART;VALUE=DATE:20260430
DTEND;VALUE=DATE:20260503
CREATED:20260121T201751
DESCRIPTION:\n\nEvent link: https://stampinup.net/crm/events/274329
LAST-MODIFIED:20260121T201751
ORGANIZER;CN=Krista Hershberger:mailto:kristascrafty@gmail.com
SUMMARY:💌Create 4 Him TEAM Retreat Weekend!
URL;VALUE=URI:https://stampinup.net/crm/events/274329
END:VEVENT
END:VCALENDAR
