BEGIN:VCALENDAR
VERSION:2.0
PRODID:icalendar-ruby
CALSCALE:GREGORIAN
METHOD:PUBLISH
BEGIN:VEVENT
DTSTAMP:20260424T161202Z
UID:event-274136@stampinup.net
DTSTART;TZID=Pacific/Auckland:20260422T133000
DTEND;TZID=Pacific/Auckland:20260422T153000
CREATED:20260118T174216
DESCRIPTION:Join me for a fun and hands-on Card Making Class. Whether you
 ’re a beginner or an experienced crafter\, there will be something for y
 ou. Learn a new technique or remember an old one. Make two beautiful cards
  for $25 or you can attend for free if you place a $30 order on the day. 
 \n\nEvent link: https://stampinup.net/crm/events/274136
LAST-MODIFIED:20260118T174216
LOCATION:Taylor Made Space Meeting Room\, 22A Taylor St\, Cambridge\, New Z
 ealand
ORGANIZER;CN=Ruth Hickey:mailto:ruth@starstamping.com
SUMMARY:Afternoon Cambridge Craft Class
URL;VALUE=URI:https://stampinup.net/crm/events/274136
END:VEVENT
END:VCALENDAR
