BEGIN:VCALENDAR
VERSION:2.0
PRODID:icalendar-ruby
CALSCALE:GREGORIAN
METHOD:PUBLISH
BEGIN:VEVENT
DTSTAMP:20260424T161502Z
UID:event-274134@stampinup.net
DTSTART;TZID=Pacific/Auckland:20260412T083000
DTEND;TZID=Pacific/Auckland:20260412T130000
CREATED:20260118T174059
DESCRIPTION:Over 100 stalls to browse through. See my Facebook page starsta
 mping on the day to find out which part of the park I'm set up in. I will 
 have finished cards\, gift boxes and gifts. Also adhesives and retired Sta
 mpin' Up!® products.\n\nEvent link: https://stampinup.net/crm/events/2741
 34
LAST-MODIFIED:20260118T174059
LOCATION:Cambridge Memorial Park\, 61 Taylor Street\, Cambridge\, Waipa
ORGANIZER;CN=Ruth Hickey:mailto:ruth@starstamping.com
SUMMARY:Cambridge Lions Market
URL;VALUE=URI:https://stampinup.net/crm/events/274134
END:VEVENT
END:VCALENDAR
