BEGIN:VCALENDAR
VERSION:2.0
PRODID:icalendar-ruby
CALSCALE:GREGORIAN
METHOD:PUBLISH
BEGIN:VEVENT
DTSTAMP:20260424T161202Z
UID:event-274133@stampinup.net
DTSTART;TZID=Pacific/Auckland:20260418T080000
DTEND;TZID=Pacific/Auckland:20260418T130000
CREATED:20260118T173953
DESCRIPTION:Enjoy a morning in Thames browsing the stalls. You will find me
  in front of St James Church. I will have finished cards\, gift boxes and 
 gifts. Also adhesives and retired Stampin' Up!® products.\n\nEvent link: 
 https://stampinup.net/crm/events/274133
LAST-MODIFIED:20260118T173953
LOCATION:In front of St James Church\, 650 Pollen Street\, Thames
ORGANIZER;CN=Ruth Hickey:mailto:ruth@starstamping.com
SUMMARY:Thames Market
URL;VALUE=URI:https://stampinup.net/crm/events/274133
END:VEVENT
END:VCALENDAR
