BEGIN:VCALENDAR
VERSION:2.0
PRODID:icalendar-ruby
CALSCALE:GREGORIAN
METHOD:PUBLISH
BEGIN:VEVENT
DTSTAMP:20260420T161604Z
UID:event-273917@stampinup.net
DTSTART;TZID=America/New_York:20260422T093000
DTEND;TZID=America/New_York:20260422T113000
CREATED:20260116T115154
DESCRIPTION:⭐Here are the details...⭐\nApril 2026 -  🌼Made with Swe
 etness Scrapbook Kit \n\n✂𝙄𝙣-𝙥𝙚𝙧𝙨𝙤𝙣 𝘾𝙡
 𝙖𝙨𝙨: Tues\, April 21\, 2026 at 9:30am and 6:45pm\n\n*𝘤𝘭
 𝘢𝘴𝘴𝘦𝘴 𝘯𝘦𝘦𝘥 2 𝘱𝘦𝘰𝘱𝘭𝘦 𝘢𝘵
 𝘵𝘦𝘯𝘥𝘪𝘯𝘨 𝘵𝘰 𝘩𝘰𝘭𝘥 𝘤𝘭𝘢𝘴
 𝘴\n\n✂𝙊𝙣𝙡𝙞𝙣𝙚 𝘾𝙡𝙖𝙨𝙨: Wed\, April 22\,
  2026 at  9:30am on private FB page.\n✔Watch the recording WHENEVER i
 t works for you! 😉\n✔This date/time is subject to change\, but I'll 
 let you know if it does.\n\n..............................................
 ..............................................\n\n📝You'll find the lis
 t of products needed for this class in the photo below.📸 🙃😉 \n
  \n\n✂I will be adding my "Krista's Crafty" touch to this Scrapbook cla
 ss\, and we'll be creating MORE pages (10-12 instead of the normal six!)\,
  because of the additional two-tone cardstock you've purchased to complete
  this kit!😉🙌🥳\n\n🚨This Scrapbook KIT will be available for PU
 RCHASE --from my SU! website --  kristascrafty.stampinup.net beginning 
 Tues\, March 3 in our ONLINE Store!!\n\n 👉👉👉👉To join class 
 𝐏𝐥𝐞𝐚𝐬𝐞 𝐎𝐫𝐝𝐞𝐫 &amp\; 𝐑𝐒𝐕𝐏 for 
 this month's Workshop kit from my SU website by Tues\, March 31\, 2026 
 to make sure you have it in time for class!🙃\n\n👉𝐓𝐨 𝐣𝐨
 𝐢𝐧 any of my future 𝐦𝐨𝐧𝐭𝐡𝐥𝐲 𝐒𝐜𝐫𝐚
 𝐩𝐛𝐨𝐨𝐤 𝐜𝐥𝐚𝐬𝐬\n...please purchase that month's
 \n ✂Scrapbook Workshop kit\n✂The Two-tone Cardstock pack....that coor
 dinates with this month's kit\n.... from my SU! website 3 𝙬𝙚𝙚𝙠
 𝙨 𝙥𝙧𝙞𝙤𝙧 𝙩𝙤 𝙩𝙝𝙚 𝙘𝙡𝙖𝙨𝙨 𝙙
 𝙖𝙩𝙚. (if there is a holiday\, allow more time for shipping)\n\n
 🔗kristascrafty.stampinup.net\n\n.......................................
 ....................................\n\nUpcoming Scrapbook Class DATES \n
 Please 𝙡𝙚𝙩 𝙢𝙚 𝙠𝙣𝙤𝙬 𝙞𝙛 𝙮𝙤𝙪 𝙘
 𝙖𝙣 𝙟𝙤𝙞𝙣 𝙪𝙨 for any of these upcoming classes! \n\n
 The first date is the in-person class date....the 2nd date is the Online C
 lass.\n\n\nTues\, April 21 &amp\; Wed\, April 22\, 2026-- 🌼Made with S
 weetness -coming March 3\, 2026 to our Online Store!! \n\nWed\, May 20 &
 amp\; Thurs\, May 21\, 2026-- NEW KIT!!!! \n\nTues\, June 23 &amp\; Wed\
 , June 24\, 2026-- NEW KIT!!!! \n\n\nEvent link: https://stampinup.net/cr
 m/events/273917
LAST-MODIFIED:20260323T191217
LOCATION:my home in Elverson\, PA
ORGANIZER;CN=Krista Hershberger:mailto:kristascrafty@gmail.com
SUMMARY:ONLINE 🌼"Made with Sweetness" Monthly SCRAPbooking Class 
URL;VALUE=URI:https://stampinup.net/crm/events/273917
END:VEVENT
END:VCALENDAR
