BEGIN:VCALENDAR
VERSION:2.0
PRODID:icalendar-ruby
CALSCALE:GREGORIAN
METHOD:PUBLISH
BEGIN:VEVENT
DTSTAMP:20260425T014240Z
UID:event-273487@stampinup.net
DTSTART;TZID=America/Los_Angeles:20260420T100000
DTEND;TZID=America/Los_Angeles:20260420T120000
CREATED:20260112T160526
DESCRIPTION:It's time for our monthly Stamp Club meeting!  Please remember
  to bring your own adhesive.\nDo you want to drop in as a guest and create
  with us?  Let me know!\n\nEvent link: https://stampinup.net/crm/events/2
 73487
LAST-MODIFIED:20260112T160526
LOCATION:Cheryl's Home
ORGANIZER;CN=Cheryl Dorsey:mailto:dpdcld@aol.com
SUMMARY:Stamp Club
URL;VALUE=URI:https://stampinup.net/crm/events/273487
END:VEVENT
END:VCALENDAR
