BEGIN:VCALENDAR
VERSION:2.0
PRODID:icalendar-ruby
CALSCALE:GREGORIAN
METHOD:PUBLISH
BEGIN:VEVENT
DTSTAMP:20260424T202014Z
UID:event-273378@stampinup.net
DTSTART;TZID=America/New_York:20260408T190000
DTEND;TZID=America/New_York:20260408T210000
CREATED:20260112T101455
DESCRIPTION:April means annual catalog is coming to an end.  We will say g
 ood bye to product and look at sneak peeks for the new.  Cost is $15. Ple
 ase RSVP and bring your own adhesive.\n\nEvent link: https://stampinup.net
 /crm/events/273378
LAST-MODIFIED:20260112T101455
LOCATION:Debbie Callon's house\, 6847 N 75 W\, Whiteland
ORGANIZER;CN=Debbie Callon:mailto:DEBBIECALLON@HOTMAIL.COM
SUMMARY:Stamp Camp
URL;VALUE=URI:https://stampinup.net/crm/events/273378
END:VEVENT
END:VCALENDAR
