BEGIN:VCALENDAR
VERSION:2.0
PRODID:icalendar-ruby
CALSCALE:GREGORIAN
METHOD:PUBLISH
BEGIN:VEVENT
DTSTAMP:20260422T063557Z
UID:event-273197@stampinup.net
DTSTART;TZID=America/New_York:20260417T183000
DTEND;TZID=America/New_York:20260417T203000
CREATED:20260110T164915
DESCRIPTION:Come join us for a Bingo/Card Night. In this class you will mak
 e 4 cards and play 4 games of Bingo. Lots of prizes will be given away! Ge
 t a ticket for each $30 placed in orders by the end of the class. There wi
 ll be a drawing at the end of the event for a gift. RSVP to Sheila@Stampin
 gWithSheila.com or text or call me at (203) 314-3173. Cost $45  Payment 
 accepted for class - Cash\, Check\, Venmo or Gift Certificates. Payment se
 cures your seat. Seating is limited.\n\nEvent link: https://stampinup.net/
 crm/events/273197
LAST-MODIFIED:20260110T164915
ORGANIZER;CN=Sheila Rudnicki:mailto:sheila@stampingwithsheila.com
SUMMARY:Bingo Night
URL;VALUE=URI:https://stampinup.net/crm/events/273197
END:VEVENT
END:VCALENDAR
