BEGIN:VCALENDAR
VERSION:2.0
PRODID:icalendar-ruby
CALSCALE:GREGORIAN
METHOD:PUBLISH
BEGIN:VEVENT
DTSTAMP:20260425T152504Z
UID:event-273061@stampinup.net
DTSTART;TZID=America/Los_Angeles:20260408T103000
DTEND;TZID=America/Los_Angeles:20260408T143000
CREATED:20260109T151809
DESCRIPTION:Robyn invited me to stamp at Sue's She Shed with up to 16 stamp
 ers.  We take turn bringing kits for the group.  I bring basic supplies 
 and a sack lunch for a fun and creative afternoon.\n\nEvent link: https://
 stampinup.net/crm/events/273061
LAST-MODIFIED:20260109T151809
LOCATION:Nine mile areas in Spokane\, WA
ORGANIZER;CN=Michelle Nicholson:mailto:creativebug@comcast.net
SUMMARY:Nine mile area stamping
URL;VALUE=URI:https://stampinup.net/crm/events/273061
END:VEVENT
END:VCALENDAR
