BEGIN:VCALENDAR
VERSION:2.0
PRODID:icalendar-ruby
CALSCALE:GREGORIAN
METHOD:PUBLISH
BEGIN:VEVENT
DTSTAMP:20260424T033705Z
UID:event-272007@stampinup.net
DTSTART;TZID=America/Phoenix:20260418T140000
DTEND;TZID=America/Phoenix:20260418T170000
CREATED:20260102T150535
DESCRIPTION:I am so excited to launch our preview class for the next Annual
  Catalog!  SO many new products and goodies\, and I have a sweet collecti
 on to share with you to whet our appetites!  Class will include 6 cards a
 nd envelopes using all new 2026-27 Catalog items or upcoming Online Exclus
 ives!  Class includes all supplies needed\, snacks\, drinks\, AND your pr
 int copy of the catalog\, all for $25!  This class can also be FREE with 
 your order of $30 or more!  RSVP now to save your spot!\n\nEvent link: ht
 tps://stampinup.net/crm/events/272007
LAST-MODIFIED:20260102T150535
LOCATION:Chez Heroldt
ORGANIZER;CN=Heather Heroldt:mailto:heatherheroldt@msn.com
SUMMARY:New Annual Catalog Preview Class
URL;VALUE=URI:https://stampinup.net/crm/events/272007
END:VEVENT
END:VCALENDAR
