BEGIN:VCALENDAR
VERSION:2.0
PRODID:icalendar-ruby
CALSCALE:GREGORIAN
METHOD:PUBLISH
BEGIN:VEVENT
DTSTAMP:20260422T063551Z
UID:event-271946@stampinup.net
DTSTART;TZID=America/Chicago:20260408T130000
DTEND;TZID=America/Chicago:20260408T150000
CREATED:20260102T101306
DESCRIPTION:You will make four projects using Stampin' Up! products.  Depe
 nding on the complexity of the cards being made\, I will on occasion\, pr
 ovide an additional project as a bonus. \n\nPlease register for class in 
 advance through The Stampin' Elephant at https://www.thestampinelephant.c
 om\n\n\nEvent link: https://stampinup.net/crm/events/271946
LAST-MODIFIED:20260102T101306
LOCATION:The Stampin' Elephant\, 108 Commercial St\, Hanceville AL
ORGANIZER;CN=Teresa Conway:mailto:stampingnonostyle@gmail.com
SUMMARY:In-Person Card Class
URL;VALUE=URI:https://stampinup.net/crm/events/271946
END:VEVENT
END:VCALENDAR
