BEGIN:VCALENDAR
VERSION:2.0
PRODID:icalendar-ruby
CALSCALE:GREGORIAN
METHOD:PUBLISH
BEGIN:VEVENT
DTSTAMP:20260422T095602Z
UID:event-270686@stampinup.net
DTSTART;TZID=America/New_York:20260124T110000
DTEND;TZID=America/New_York:20260124T130000
CREATED:20251219T201924
DESCRIPTION:Seasonal Sampler\n\nJoin me for this unique class where you wil
 l have a chance to sample all the new Designer Series Papers\, Ribbons and
  Embellishments from the upcoming January- April Mini Catalogue\, as well 
 as the new Online Exclusive products being released in January.\n\nIf you 
 are a Demonstrator\, this is a great chance for you to not only get a samp
 ling of all the papers\, but you will also receive a card to make for each
  pack of DSP.\n\nThis class is pre-recorded and will ship on January 16.\n
 \nThis class is perfect for anyone who loves the Designer Series Papers as
  much as I do!\n\nThis Class Includes:\nNOTE: I CAN ONLY SHIP TO CANADA- P
 DF TUTORIAL WILL BE AVAILABLE JAN. 1 WORLDWIDE\n\n11 packets which each in
 clude:\nOne unique card prepped and ready for you to stamp a sentiment and
  assemble\nOne yard of Ribbon and a sample embellishment if it is a suite 
 of products.\nOne 6x6 piece of each design from the DSP \nSome extra item
 s (doilie\, Valentine's treat bag etc)\n\nYou will also receive:\nA PDF Tu
 torial \nA pre-recorded video tutorial showing how to assemble the cards.
 \nFun surprises!\n\nInvestment: $80 before Dec. 31\n              
       $90 after Jan. 1\n\nAdd On's:\nWinter Stikki Pack $40- includes o
 ver $50 in products\n\nPinery Paper Pals - $60\n\nThis is a limited offeri
 ng.\nRSVP is required.\n\nShips anywhere in Canada for $15\n\n\n\n\n \n\n
 Event link: https://stampinup.net/crm/events/270686
LAST-MODIFIED:20251231T093143
LOCATION:Online Only
ORGANIZER;CN=MaryAnne Cowan:mailto:maryannecowan@gmail.com
SUMMARY:Seasonal Sampler
URL;VALUE=URI:https://stampinup.net/crm/events/270686
END:VEVENT
END:VCALENDAR
