BEGIN:VCALENDAR
VERSION:2.0
PRODID:icalendar-ruby
CALSCALE:GREGORIAN
METHOD:PUBLISH
BEGIN:VEVENT
DTSTAMP:20260424T021613Z
UID:event-26997@stampinup.net
DTSTART;TZID=America/New_York:20200315T133000
DTEND;TZID=America/New_York:20200315T160000
CREATED:20191202T091754
DESCRIPTION:Want to know what being a Stampin' Up! demonstrator is all abou
 t? Join me and my team\, The Ink-Spirations\, as we share swaps\, talk abo
 ut business tips and the latest Stampin' Up! news\, craft together\, chat 
 and enjoy yummy treats.\n\nIf you have any questions or would like to rese
 rve a spot\, please contact me by Tuesday\, March 10\, 2020.\n\nEvent link
 : https://stampinup.net/crm/events/26997
LAST-MODIFIED:20191202T093018
ORGANIZER;CN=Robin Feicht:mailto:robin@stampingcountry.com
SUMMARY:Team Meeting
URL;VALUE=URI:https://stampinup.net/crm/events/26997
END:VEVENT
END:VCALENDAR
