BEGIN:VCALENDAR
VERSION:2.0
PRODID:icalendar-ruby
CALSCALE:GREGORIAN
METHOD:PUBLISH
BEGIN:VEVENT
DTSTAMP:20260424T182725Z
UID:event-269244@stampinup.net
DTSTART;TZID=America/New_York:20260428T123000
DTEND;TZID=America/New_York:20260428T143000
CREATED:20251125T053330
DESCRIPTION:Each participant will make 4 cards (2 cards of 2 different desi
 gns).\nCost:  $10\n\nEvent link: https://stampinup.net/crm/events/269244
LAST-MODIFIED:20251125T053330
LOCATION:Alexander Co Senior Center\, Taylorsville\, NC
ORGANIZER;CN=Sandy Herman:mailto:shermanstamps@yahoo.com
SUMMARY: Card Class
URL;VALUE=URI:https://stampinup.net/crm/events/269244
END:VEVENT
END:VCALENDAR
