BEGIN:VCALENDAR
VERSION:2.0
PRODID:icalendar-ruby
CALSCALE:GREGORIAN
METHOD:PUBLISH
BEGIN:VEVENT
DTSTAMP:20260424T182620Z
UID:event-269239@stampinup.net
DTSTART;TZID=America/New_York:20260420T170000
DTEND;TZID=America/New_York:20260420T200000
CREATED:20251125T052647
DESCRIPTION:Sewing class for anyone wanting to learn to sew or quilt.\nEver
 yone welcome.\nQuestions -- call me at 828-234-3750\n\nEvent link: https:/
 /stampinup.net/crm/events/269239
LAST-MODIFIED:20251125T052647
LOCATION:Alexander Co Office Building\, Taylorsville\, NC
ORGANIZER;CN=Sandy Herman:mailto:shermanstamps@yahoo.com
SUMMARY:Apple City Stitchers  meeting
URL;VALUE=URI:https://stampinup.net/crm/events/269239
END:VEVENT
END:VCALENDAR
