BEGIN:VCALENDAR
VERSION:2.0
PRODID:icalendar-ruby
CALSCALE:GREGORIAN
METHOD:PUBLISH
BEGIN:VEVENT
DTSTAMP:20260426T030536Z
UID:event-26639@stampinup.net
DTSTART;TZID=America/New_York:20191220T180000
DTEND;TZID=America/New_York:20191220T235900
CREATED:20191130T210528
DESCRIPTION:Still have projects you need to finish for Christmas but can't 
 seem to get it done with interruptions or just life?  Come to my studio t
 o finish your projects!\n\n$20 includes a goody bag of brand new Stampin' 
 Up! and festive drinks.  Bring a snack to share. \n\nEvent link: https:/
 /stampinup.net/crm/events/26639
LAST-MODIFIED:20191130T210528
LOCATION:One Crafty Sister Studio\, Gainesville\, FL 
ORGANIZER;CN=Jennifer Hill:mailto:jennifer@onecraftysister.com
SUMMARY:Pajama All-Nighter!
URL;VALUE=URI:https://stampinup.net/crm/events/26639
END:VEVENT
END:VCALENDAR
