BEGIN:VCALENDAR
VERSION:2.0
PRODID:icalendar-ruby
CALSCALE:GREGORIAN
METHOD:PUBLISH
BEGIN:VEVENT
DTSTAMP:20260419T193856Z
UID:event-265317@stampinup.net
DTSTART;TZID=America/Los_Angeles:20260412T140000
DTEND;TZID=America/Los_Angeles:20260412T163000
CREATED:20251008T121058
DESCRIPTION:Come create 5 awesome masculine cards for men and boys at this 
 class! \nBring your own adhesive or purchase it at class.\n(First time at
 tendees will have adhesive provided)\nCost: $20 Pre-registration required.
 \nContact me for Venmo or Zelle.\nRegistration Deadline: 4/6\n\nEvent link
 : https://stampinup.net/crm/events/265317
LAST-MODIFIED:20251008T121058
ORGANIZER;CN=Michelle Halleen:mailto:MHALLEEN@outlook.com
SUMMARY:"For The Guys" Stamp Camp!
URL;VALUE=URI:https://stampinup.net/crm/events/265317
END:VEVENT
END:VCALENDAR
