BEGIN:VCALENDAR
VERSION:2.0
PRODID:icalendar-ruby
CALSCALE:GREGORIAN
METHOD:PUBLISH
BEGIN:VEVENT
DTSTAMP:20260425T163536Z
UID:event-265312@stampinup.net
DTSTART;TZID=America/Los_Angeles:20260222T140000
DTEND;TZID=America/Los_Angeles:20260222T163000
CREATED:20251008T120202
DESCRIPTION:We always need Birthday Cards\, right?\nWe will be making 5 awe
 some projects ready to celebrate the birthdays in your life!\nBring your o
 wn adhesive or purchase it at class. (First time attendees will have adhes
 ive provided)\nCost: $20 Pre-registration required.\nContact me for Venmo 
 or Zelle.\nRegistration Deadline: 2/16\n\nEvent link: https://stampinup.ne
 t/crm/events/265312
LAST-MODIFIED:20251008T120202
LOCATION:My House in Yorba Linda\, CA
ORGANIZER;CN=Michelle Halleen:mailto:MHALLEEN@outlook.com
SUMMARY:"Celebrate Birthdays!"
URL;VALUE=URI:https://stampinup.net/crm/events/265312
END:VEVENT
END:VCALENDAR
