BEGIN:VCALENDAR
VERSION:2.0
PRODID:icalendar-ruby
CALSCALE:GREGORIAN
METHOD:PUBLISH
BEGIN:VEVENT
DTSTAMP:20260425T164729Z
UID:event-2652@stampinup.net
DTSTART;TZID=America/Chicago:20190915T120000
DTEND;TZID=America/Chicago:20190915T170000
CREATED:20190911T161806
DESCRIPTION:We would LOVE to have you and your team join us! \n\n**What is
  Creative Connections?\n\n\n	\n	A wonderfully unique &amp\; FUN event fill
 ed with lots of creativity!\n	\n	\n	On-stage presentations and demonstrati
 ons\, displays of all kinds\, door prizes\, and of course swapping! \n	\n
 \n\n\n	\n	You won’t want to miss this opportunity to “Connect” with 
 other Stampin’ Up! Demonstrators who share your passion for creativity! 
 You will leave revitalized and FULL of creative ideas to share with your c
 ustomers\, family\, and friends!\n	\n	\n	Both Brian Pilling and Donna Grif
 fith from the Stampin' Up! home office will be presenting at the Creative 
 Connections Event!\n	\n\n\n\n	\n	Date: Sunday\, September 15\, 2019\n	\n	\
 n	Time: 1:00 pm – 5:00 pm (Doors Open and Registration begins at 12:00 p
 m)\n	\n	\n	Location: Ballroom at Medina Entertainment Center\, 500 Hwy 55\
 ,Medina\, MN 55340 \n	\n	\n	Enter upper-level door\, and park on the west
  side of the building\n	\n\n\n\n	\n	Cost: $12.00 \n	Registration for Crea
 tive Connection for your Team opens August 11\, 2019.\n	\n	\n	Additional d
 etails: \n	\n\n\n\n	\n	“In Your Chair” Door Prize drawing at 1:00 pm.
  \n	\n	\n	Be sure to bring your camera to take pictures of all the creati
 ve displays. \n	\n	\n	You may also want to bring a notebook and pen to ta
 ke notes.\n	\n	\n	The swap is “Convention” style - card fronts with cu
 rrent products (no retired products). You may bring as many swaps as you w
 ould like\, we anticipate over 300 attendees.\n	\n\n\nWe have a lot of fun
  things planned for you and are really excited to “Connect” with YOU!\
 n\n\nEvent link: https://stampinup.net/crm/events/2652
LAST-MODIFIED:20190911T161921
LOCATION:Medina Entertainment Center\, 500 Minnesota HWY 55\, Medina\, MN
ORGANIZER;CN=JoAnn Pollock:mailto:jpollockdesigns@gmail.com
SUMMARY:Creative Connections 
URL;VALUE=URI:https://stampinup.net/crm/events/2652
END:VEVENT
END:VCALENDAR
