BEGIN:VCALENDAR
VERSION:2.0
PRODID:icalendar-ruby
CALSCALE:GREGORIAN
METHOD:PUBLISH
BEGIN:VEVENT
DTSTAMP:20260420T092921Z
UID:event-264591@stampinup.net
DTSTART;TZID=America/Chicago:20251122T080000
DTEND;TZID=America/Chicago:20251122T120000
CREATED:20251003T060808
DESCRIPTION:Come for a chaotic event! Let's gather together and get those C
 hristmas cards done! Bring your positive attitude and be prepared to laugh
  and have fun. You will complete 10 cards and take home the remainder of a
  pack of designer paper as well as a pack of embellishments ( we all need 
 bling!). \nCost is $30\nRSVP with payment by Nov 8 to ensure your spot\n\
 nEvent link: https://stampinup.net/crm/events/264591
LAST-MODIFIED:20251022T063129
LOCATION:The Roost\, 3025 Vega Ave
ORGANIZER;CN=Robyn Rasset:mailto:rrasset@frontier.com
SUMMARY:Christmas Card Chaos!
URL;VALUE=URI:https://stampinup.net/crm/events/264591
END:VEVENT
END:VCALENDAR
