BEGIN:VCALENDAR
VERSION:2.0
PRODID:icalendar-ruby
CALSCALE:GREGORIAN
METHOD:PUBLISH
BEGIN:VEVENT
DTSTAMP:20260420T071511Z
UID:event-264590@stampinup.net
DTSTART;TZID=America/Chicago:20251026T130000
DTEND;TZID=America/Chicago:20251026T180000
CREATED:20251003T053534
DESCRIPTION:We will make 4 cards\, a home decor item\, and a treat box/bag.
  Each participant will receive a full pack of designer paper\, a full pack
  of ribbon/twine\, and a pack of gems. (Value of $40).\nCost is $50\nRegis
 ter with payment by Monday October 13 to ensure spot! Pay with  Paypal\n\
 nEvent link: https://stampinup.net/crm/events/264590
LAST-MODIFIED:20251013T075216
LOCATION:The Roost\, 3025 Vega Ave\, Mayer MN
ORGANIZER;CN=Robyn Rasset:mailto:rrasset@frontier.com
SUMMARY:Gather Together Crafternoon
URL;VALUE=URI:https://stampinup.net/crm/events/264590
END:VEVENT
END:VCALENDAR
