BEGIN:VCALENDAR
VERSION:2.0
PRODID:icalendar-ruby
CALSCALE:GREGORIAN
METHOD:PUBLISH
BEGIN:VEVENT
DTSTAMP:20260424T182619Z
UID:event-262523@stampinup.net
DTSTART;TZID=America/New_York:20260425T130000
DTEND;TZID=America/New_York:20260425T150000
CREATED:20250914T140855
DESCRIPTION:\nCrafting is more fun with friends! Join us for our monthly ca
 rd-making classes at Chris Hadfield Park in Milton inside the awesome mobi
 le crafting trailer!\n\n \n\nSaturday April 25\, 2026 @ 1pm\n\n$15 fee to
  attend per class\, to make 3 greeting cards.  Registration required by 
 the  last day of the previous month of desired class date\n\n \n\nLaure
 n Porty\n\nColour the Kitty\n\nMilton\, Ontario 647-772-9763 colourthekitt
 y.com\n\nEmail to register: colourthekitty@gmail.com\n\n \n\nIndependent 
 Stampin’ Up! Demonstrator\n\nhttps://laurenporty.stampinup.net\n\n \n\n
 Contact me to find out the creative options for your own crafting gatherin
 g\n\n\nEvent link: https://stampinup.net/crm/events/262523
LAST-MODIFIED:20250914T140855
LOCATION:Chris Hadfield Park\, Milton Ontario
ORGANIZER;CN=Lauren Porty:mailto:colourthekitty@gmail.com
SUMMARY:April Trailer Class 
URL;VALUE=URI:https://stampinup.net/crm/events/262523
END:VEVENT
END:VCALENDAR
