BEGIN:VCALENDAR
VERSION:2.0
PRODID:icalendar-ruby
CALSCALE:GREGORIAN
METHOD:PUBLISH
BEGIN:VEVENT
DTSTAMP:20260426T015605Z
UID:event-2622@stampinup.net
DTSTART;TZID=America/Chicago:20190912T140000
DTEND;TZID=America/Chicago:20190912T160000
CREATED:20190911T160538
DESCRIPTION:Time to create!\n\nEvent link: https://stampinup.net/crm/events
 /2622
LAST-MODIFIED:20190911T160538
ORGANIZER;CN=Peri Beal:mailto:info@PapercraftingThreads.com
SUMMARY:Studio Time
URL;VALUE=URI:https://stampinup.net/crm/events/2622
END:VEVENT
END:VCALENDAR
