BEGIN:VCALENDAR
VERSION:2.0
PRODID:icalendar-ruby
CALSCALE:GREGORIAN
METHOD:PUBLISH
BEGIN:VEVENT
DTSTAMP:20260423T122816Z
UID:event-261971@stampinup.net
DTSTART;TZID=Australia/Sydney:20260417T130000
DTEND;TZID=Australia/Sydney:20260419T160000
CREATED:20250905T052938
DESCRIPTION:Join Dannii and Janice for a full weekend event. Everyone comin
 g will be given product gifts\, demos\, door prizes\, morning and afternoo
 n tea\, Friday Dinner\, Saturday Dinner. BYO Lunches. Bring your own craft
 y supplies and projects to work on. Friday opens at 1pm (but you can arriv
 e when ever after that time) till 10pm. Saturday is 9am - 10pm. Sunday is 
 9am - 4pm. Plus we'll have a shop of crafty products. There will be Raffle
 s and also activities to raise funds for our choosen charities. \n\nSouth
  Eastern Masonic Centre\, Hutton Rd\, Keysborough\, Vic\n\nBook Here for F
 ull Weekend - Cost $200. Day Trippers - Cost from $50\n\nEvent link: http
 s://stampinup.net/crm/events/261971
LAST-MODIFIED:20250905T053422
LOCATION:South Eastern Masonic Centre\, 270 Hutton Rd\, Keysborough\, Victo
 ria
ORGANIZER;CN=Danielle Edwards:mailto:scrappychick@scrappychicks.art
SUMMARY:Scrappy Chicks Retreat
URL;VALUE=URI:https://stampinup.net/crm/events/261971
END:VEVENT
END:VCALENDAR
