BEGIN:VCALENDAR
VERSION:2.0
PRODID:icalendar-ruby
CALSCALE:GREGORIAN
METHOD:PUBLISH
BEGIN:VEVENT
DTSTAMP:20260420T022816Z
UID:event-261453@stampinup.net
DTSTART;TZID=Australia/Sydney:20251108T103000
DTEND;TZID=Australia/Sydney:20251108T160000
CREATED:20250901T033358
DESCRIPTION:Collaborating with the amazing Cheryll Miller at Sense of Whims
 y (McLaren Vale\, SA) to bring cardmaking inspiration right to your craft 
 space using the Lights of Aurora Suite Collection of products from Stampin
 ' Up!®.\n\nWe will be creating live in Zoom and a private Youtube stream\
 , the creative portions of the event will be recorded so you can watch bac
 k at anytime if you can't make it on the day.\nCutting and supply lists wi
 ll be provided in both metric and US Imperial so you are all ready to crea
 te along with us.\n\n\nPurchase the recorded class here:By Fi Handcrafts B
 log Tutorials for purchase\n\nPayment for the Live event is due by 6th Nov
 ember 2025\n\n\n. . . Let's Create!\nFiona\n\nEvent link: https://stampinu
 p.net/crm/events/261453
LAST-MODIFIED:20260320T223623
LOCATION:online
ORGANIZER;CN=Fiona Fernandez:mailto:Byfihandcrafts@gmail.com
SUMMARY:NEW Lights of Aurora Online Class - Create Live With Us
URL;VALUE=URI:https://stampinup.net/crm/events/261453
END:VEVENT
END:VCALENDAR
